BEGIN:VCALENDAR
VERSION:2.0
PRODID:-// - ECPv6.15.11//NONSGML v1.0//EN
CALSCALE:GREGORIAN
METHOD:PUBLISH
X-ORIGINAL-URL:https://www.jervisbaytriathlonclub.org
X-WR-CALDESC:Events for 
REFRESH-INTERVAL;VALUE=DURATION:PT1H
X-Robots-Tag:noindex
X-PUBLISHED-TTL:PT1H
BEGIN:VTIMEZONE
TZID:Australia/Sydney
BEGIN:STANDARD
TZOFFSETFROM:+1100
TZOFFSETTO:+1000
TZNAME:AEST
DTSTART:20250405T160000
END:STANDARD
BEGIN:DAYLIGHT
TZOFFSETFROM:+1000
TZOFFSETTO:+1100
TZNAME:AEDT
DTSTART:20251004T160000
END:DAYLIGHT
BEGIN:STANDARD
TZOFFSETFROM:+1100
TZOFFSETTO:+1000
TZNAME:AEST
DTSTART:20260404T160000
END:STANDARD
BEGIN:DAYLIGHT
TZOFFSETFROM:+1000
TZOFFSETTO:+1100
TZNAME:AEDT
DTSTART:20261003T160000
END:DAYLIGHT
BEGIN:STANDARD
TZOFFSETFROM:+1100
TZOFFSETTO:+1000
TZNAME:AEST
DTSTART:20270403T160000
END:STANDARD
BEGIN:DAYLIGHT
TZOFFSETFROM:+1000
TZOFFSETTO:+1100
TZNAME:AEDT
DTSTART:20271002T160000
END:DAYLIGHT
END:VTIMEZONE
BEGIN:VEVENT
DTSTART;VALUE=DATE:20260509
DTEND;VALUE=DATE:20260511
DTSTAMP:20260424T221351
CREATED:20250905T042136Z
LAST-MODIFIED:20260112T041249Z
UID:13894-1778284800-1778457599@www.jervisbaytriathlonclub.org
SUMMARY:Coffs Harbour Triathlon
DESCRIPTION:Race the Guzman Y Gomez Triathlon Coffs Harbour on May 9 – May 10\, 2026! \nTrailing the stunning Coffs Harbour foreshore and with a start/finish line along Coffs Harbour Jetty\, you won’t want to miss this epic NEW addition to the EE calendar. \nDon’t miss your favourite events: Standard\, Sprint\, Super Sprint and TriKidz – and the opportunity for a family getaway in the home of the Big Banana! \nWith world-class beaches and LOADS to see and do\, join us as we swim\, bike and run Coffs Harbour in 2026. \nAlso featuring the brand new Guzman Y Gomez Banana Run – three fun run distances the whole family can enjoy! \nLace up for a fresh twist on the weekend with this exciting new addition to the event lineup. \nBig News!\nThe Aquabike (Standard distance) has officially been crowned a NSW State Championship event!\nSwim\, ride\, skip the run – and race for the title!
URL:https://www.jervisbaytriathlonclub.org/event/coffs-harbour-triathlon/
LOCATION:Coffs Harbour\, Jordan Esplanade\, Coffs Harbour\, New South Wales\, 2450\, Australia
CATEGORIES:Run,Triathlon
ATTACH;FMTTYPE=image/png:https://www.jervisbaytriathlonclub.org/wp-content/uploads/2025/09/Screenshot-2026-01-12-at-3.11.48-pm.png
ORGANIZER;CN="Elite Energy":MAILTO:office@eliteenergy.com.au
END:VEVENT
END:VCALENDAR